BEGIN:VCALENDAR
VERSION:2.0
PRODID:-//Liz Rivers - ECPv5.16.4//NONSGML v1.0//EN
CALSCALE:GREGORIAN
METHOD:PUBLISH
X-WR-CALNAME:Liz Rivers
X-ORIGINAL-URL:https://www.lizrivers.com
X-WR-CALDESC:Events for Liz Rivers
BEGIN:VTIMEZONE
TZID:UTC
BEGIN:STANDARD
TZOFFSETFROM:+0000
TZOFFSETTO:+0000
TZNAME:UTC
DTSTART:20190101T000000
END:STANDARD
END:VTIMEZONE
BEGIN:VEVENT
DTSTART;VALUE=DATE:20191015
DTEND;VALUE=DATE:20191016
DTSTAMP:20260421T084425
CREATED:20190901T010313Z
LAST-MODIFIED:20190913T105431Z
UID:75-1571097600-1571183999@www.lizrivers.com
SUMMARY:Purpose Power Presence
DESCRIPTION:An inspirational 2 day Leadership Programme for Women with Hetty Einzig and Liz Rivers \n“Don’t lean in – change the system”\n-Helena Morrissey\, one of Fortune Magazine’s 50 world leaders \n…because the way we’re working isn’t working – for women or men. \nTo be fit for the future we need workplaces that welcome all of who we are:\nflexible and centred\, creative and courageous\, confident and compassionate. \n…And women are leading the way.\nJoin us to… \nGet clear on your purpose\nBe comfortable with power\nLearn to stay calm in the eye of the storm\nHave your voice heard… and\nConnect with a network of empowered women
URL:https://www.lizrivers.com/event/purpose-power-presence/
LOCATION:London\, London\, United Kingdom
ATTACH;FMTTYPE=image/jpeg:https://www.lizrivers.com/wp-content/uploads/2019/09/PPP-main-image-2018-final.jpg
END:VEVENT
END:VCALENDAR