BEGIN:VCALENDAR
VERSION:2.0
PRODID:-//Liz Rivers - ECPv5.16.4//NONSGML v1.0//EN
CALSCALE:GREGORIAN
METHOD:PUBLISH
X-WR-CALNAME:Liz Rivers
X-ORIGINAL-URL:https://www.lizrivers.com
X-WR-CALDESC:Events for Liz Rivers
BEGIN:VTIMEZONE
TZID:UTC
BEGIN:STANDARD
TZOFFSETFROM:+0000
TZOFFSETTO:+0000
TZNAME:UTC
DTSTART:20260101T000000
END:STANDARD
END:VTIMEZONE
BEGIN:VEVENT
DTSTART;TZID=UTC:20260226T140000
DTEND;TZID=UTC:20260226T164500
DTSTAMP:20260421T100835
CREATED:20231031T141720Z
LAST-MODIFIED:20250807T093441Z
UID:1807-1772114400-1772124300@www.lizrivers.com
SUMMARY:Anima Co-Vision Group for Women Leaders
DESCRIPTION:Anima is a calm\, dedicated\, confidential group-space to reflect deeply about your work-life. \nThis dedicated and regular small group space will give you clearer perception\, build head- heart-gut alignment\, and provide support for your challenges and ambitions – leading to greater clarity on your next step. \nYou will benefit from encouragement from a group of accomplished women who’ve ‘got your back’\, plus expert input from Hetty and Liz. \nWe welcome women who are coaches\, leaders\, self-employed\, running small businesses or working in large organisations – whether or not you see yourself as a ‘leader’ in the formal sense. \nThe 2026 Anima Co-Vision group will run monthly on Thursdays at 2 – 4.45 pm (UK time) for 8 sessions spread over 9 months. \n  \nFull details are here.
URL:https://www.lizrivers.com/event/anima-co-vision/
ATTACH;FMTTYPE=image/png:https://www.lizrivers.com/wp-content/uploads/2023/10/Anima-header-2025-with-PPP-logo.png
END:VEVENT
END:VCALENDAR